BEGIN:VCALENDAR
VERSION:2.0
PRODID:-//OutRyders - ECPv6.15.20//NONSGML v1.0//EN
CALSCALE:GREGORIAN
METHOD:PUBLISH
X-WR-CALNAME:OutRyders
X-ORIGINAL-URL:https://outryders.org
X-WR-CALDESC:Events for OutRyders
REFRESH-INTERVAL;VALUE=DURATION:PT1H
X-Robots-Tag:noindex
X-PUBLISHED-TTL:PT1H
BEGIN:VTIMEZONE
TZID:UTC
BEGIN:STANDARD
TZOFFSETFROM:+0000
TZOFFSETTO:+0000
TZNAME:UTC
DTSTART:20210101T000000
END:STANDARD
END:VTIMEZONE
BEGIN:VEVENT
DTSTART;TZID=UTC:20221207T180000
DTEND;TZID=UTC:20221207T210000
DTSTAMP:20260421T185105
CREATED:20221206T021558Z
LAST-MODIFIED:20221206T021600Z
UID:10000041-1670436000-1670446800@outryders.org
SUMMARY:Holiday Social at Cathedral Station
DESCRIPTION:May 1		 \n				 @ 			 \n				6:00 pm			 \n					 - 				 \n					9:00 pm				 \nCome ce... \n  \n  \n    If you are seeing this page\, you either need to Log In as a member\, or you need to sign up to BECOME A MEMBER for the 2025-2026 OutRyders season. Please go to the membership page to renew. \n  \n  \n            \n\n                       \n            \n        \n                              Username\n        \n        \n      \n      \n        \n          Password\n          \n            \n            \n              \n            \n          \n        \n      \n            \n         Remember Me\n      \n       \n      \n        \n        \n        \n        \n      \n    \n     \n    \n        \n          Forgot Password
URL:https://outryders.org/event/holiday-social-at-cathedral-station/
LOCATION:Cathedral Station\, 1222 Washington St\, Boston\, 02118\, United States
ATTACH;FMTTYPE=image/jpeg:https://outryders.org/wp-content/uploads/2022/06/group-cathedral.jpeg
ORGANIZER;CN="Steven Nofziger":MAILTO:steven@outryders.org
END:VEVENT
END:VCALENDAR