BEGIN:VCALENDAR
VERSION:2.0
PRODID:-//OutRyders - ECPv6.15.20//NONSGML v1.0//EN
CALSCALE:GREGORIAN
METHOD:PUBLISH
X-WR-CALNAME:OutRyders
X-ORIGINAL-URL:https://outryders.org
X-WR-CALDESC:Events for OutRyders
REFRESH-INTERVAL;VALUE=DURATION:PT1H
X-Robots-Tag:noindex
X-PUBLISHED-TTL:PT1H
BEGIN:VTIMEZONE
TZID:UTC
BEGIN:STANDARD
TZOFFSETFROM:+0000
TZOFFSETTO:+0000
TZNAME:UTC
DTSTART:20220101T000000
END:STANDARD
END:VTIMEZONE
BEGIN:VEVENT
DTSTART;TZID=UTC:20230105T183000
DTEND;TZID=UTC:20230105T203000
DTSTAMP:20260421T170622
CREATED:20221228T231800Z
LAST-MODIFIED:20221230T220943Z
UID:10000043-1672943400-1672950600@outryders.org
SUMMARY:Burton/OutRyders In-Store Event
DESCRIPTION:May 1		 \n				 @ 			 \n				6:00 pm			 \n					 - 				 \n					9:00 pm				 \nCome ce... \n  \n  \n    If you are seeing this page\, you either need to Log In as a member\, or you need to sign up to BECOME A MEMBER for the 2025-2026 OutRyders season. Please go to the membership page to renew. \n  \n  \n            \n\n                       \n            \n        \n                              Username\n        \n        \n      \n      \n        \n          Password\n          \n            \n            \n              \n            \n          \n        \n      \n            \n         Remember Me\n      \n       \n      \n        \n        \n        \n        \n      \n    \n     \n    \n        \n          Forgot Password
URL:https://outryders.org/event/burton-party/
LOCATION:Burton Boston Flagship Store\, 337 Newbury Street\, Boston\, Massachusetts\, 02115\, United States
ATTACH;FMTTYPE=image/jpeg:https://outryders.org/wp-content/uploads/2022/12/burton-event-logo.jpg
ORGANIZER;CN="Tim Pranaitis":MAILTO:tim@outryders.org
END:VEVENT
END:VCALENDAR