BEGIN:VCALENDAR
VERSION:2.0
PRODID:-//OutRyders - ECPv6.15.20//NONSGML v1.0//EN
CALSCALE:GREGORIAN
METHOD:PUBLISH
X-ORIGINAL-URL:https://outryders.org
X-WR-CALDESC:Events for OutRyders
REFRESH-INTERVAL;VALUE=DURATION:PT1H
X-Robots-Tag:noindex
X-PUBLISHED-TTL:PT1H
BEGIN:VTIMEZONE
TZID:America/New_York
BEGIN:DAYLIGHT
TZOFFSETFROM:-0500
TZOFFSETTO:-0400
TZNAME:EDT
DTSTART:20250309T070000
END:DAYLIGHT
BEGIN:STANDARD
TZOFFSETFROM:-0400
TZOFFSETTO:-0500
TZNAME:EST
DTSTART:20251102T060000
END:STANDARD
BEGIN:DAYLIGHT
TZOFFSETFROM:-0500
TZOFFSETTO:-0400
TZNAME:EDT
DTSTART:20260308T070000
END:DAYLIGHT
BEGIN:STANDARD
TZOFFSETFROM:-0400
TZOFFSETTO:-0500
TZNAME:EST
DTSTART:20261101T060000
END:STANDARD
BEGIN:DAYLIGHT
TZOFFSETFROM:-0500
TZOFFSETTO:-0400
TZNAME:EDT
DTSTART:20270314T070000
END:DAYLIGHT
BEGIN:STANDARD
TZOFFSETFROM:-0400
TZOFFSETTO:-0500
TZNAME:EST
DTSTART:20271107T060000
END:STANDARD
END:VTIMEZONE
BEGIN:VEVENT
DTSTART;TZID=America/New_York:20260424T180000
DTEND;TZID=America/New_York:20260424T210000
DTSTAMP:20260419T091912
CREATED:20260415T203908Z
LAST-MODIFIED:20260417T190037Z
UID:10000123-1777053600-1777064400@outryders.org
SUMMARY:2025-26 Boston Area Closing Party
DESCRIPTION:May 1		 \n				 @ 			 \n				6:00 pm			 \n					 - 				 \n					9:00 pm				 \nCome ce... \n  \n  \n    If you are seeing this page\, you either need to Log In as a member\, or you need to sign up to BECOME A MEMBER for the 2025-2026 OutRyders season. Please go to the membership page to renew. \n  \n  \n            \n\n                       \n            \n        \n                              Username\n        \n        \n      \n      \n        \n          Password\n          \n            \n            \n              \n            \n          \n        \n      \n            \n         Remember Me\n      \n       \n      \n        \n        \n        \n        \n      \n    \n     \n    \n        \n          Forgot Password
URL:https://outryders.org/event/2025-26-boston-area-closing-party/
LOCATION:Cathedral Station\, 1222 Washington St\, Boston\, 02118\, United States
CATEGORIES:Social Event
ATTACH;FMTTYPE=image/jpeg:https://outryders.org/wp-content/uploads/2025/09/sugarbushgrouplower2-1.jpg
ORGANIZER;CN="John Tirone":MAILTO:jdtirone@gmail.com
END:VEVENT
END:VCALENDAR