BEGIN:VCALENDAR
VERSION:2.0
PRODID:-//OutRyders - ECPv6.15.20//NONSGML v1.0//EN
CALSCALE:GREGORIAN
METHOD:PUBLISH
X-WR-CALNAME:OutRyders
X-ORIGINAL-URL:https://outryders.org
X-WR-CALDESC:Events for OutRyders
REFRESH-INTERVAL;VALUE=DURATION:PT1H
X-Robots-Tag:noindex
X-PUBLISHED-TTL:PT1H
BEGIN:VTIMEZONE
TZID:UTC
BEGIN:STANDARD
TZOFFSETFROM:+0000
TZOFFSETTO:+0000
TZNAME:UTC
DTSTART:20220101T000000
END:STANDARD
END:VTIMEZONE
BEGIN:VEVENT
DTSTART;TZID=UTC:20230202T000000
DTEND;TZID=UTC:20230205T235959
DTSTAMP:20260421T134110
CREATED:20220824T210532Z
LAST-MODIFIED:20231009T212201Z
UID:10000032-1675296000-1675641599@outryders.org
SUMMARY:WOW - Sunday River
DESCRIPTION:May 1		 \n				 @ 			 \n				6:00 pm			 \n					 - 				 \n					9:00 pm				 \nCome ce... \n  \n  \n    If you are seeing this page\, you either need to Log In as a member\, or you need to sign up to BECOME A MEMBER for the 2025-2026 OutRyders season. Please go to the membership page to renew. \n  \n  \n            \n\n                       \n            \n        \n                              Username\n        \n        \n      \n      \n        \n          Password\n          \n            \n            \n              \n            \n          \n        \n      \n            \n         Remember Me\n      \n       \n      \n        \n        \n        \n        \n      \n    \n     \n    \n        \n          Forgot Password
URL:https://outryders.org/event/wow-sunday-river/
LOCATION:Sunday River\, 15 South Ridge Road\, Newry\, ME\, 04261\, United States
CATEGORIES:Weekend Trip
ATTACH;FMTTYPE=image/jpeg:https://outryders.org/wp-content/uploads/2022/08/sundayriver-event-logo.jpg
ORGANIZER;CN="John Tirone":MAILTO:jdtirone@gmail.com
END:VEVENT
BEGIN:VEVENT
DTSTART;TZID=UTC:20230216T190000
DTEND;TZID=UTC:20230216T220000
DTSTAMP:20260421T134110
CREATED:20221003T000512Z
LAST-MODIFIED:20230123T222358Z
UID:10000038-1676574000-1676584800@outryders.org
SUMMARY:Winter Social - Boston Bowl
DESCRIPTION:May 1		 \n				 @ 			 \n				6:00 pm			 \n					 - 				 \n					9:00 pm				 \nCome ce... \n  \n  \n    If you are seeing this page\, you either need to Log In as a member\, or you need to sign up to BECOME A MEMBER for the 2025-2026 OutRyders season. Please go to the membership page to renew.
URL:https://outryders.org/event/winter-social/
LOCATION:New York
ATTACH;FMTTYPE=image/jpeg:https://outryders.org/wp-content/uploads/2022/10/bostonbowl-event-logo.jpg
ORGANIZER;CN="Steven Nofziger":MAILTO:steven@outryders.org
END:VEVENT
BEGIN:VEVENT
DTSTART;TZID=UTC:20230222T000000
DTEND;TZID=UTC:20230226T235959
DTSTAMP:20260421T134110
CREATED:20220824T211648Z
LAST-MODIFIED:20221206T020200Z
UID:10000034-1677024000-1677455999@outryders.org
SUMMARY:Elevation Utah in Park City
DESCRIPTION:May 1		 \n				 @ 			 \n				6:00 pm			 \n					 - 				 \n					9:00 pm				 \nCome ce... \n  \n  \n    If you are seeing this page\, you either need to Log In as a member\, or you need to sign up to BECOME A MEMBER for the 2025-2026 OutRyders season. Please go to the membership page to renew.
URL:https://outryders.org/event/elevation-park-city/
LOCATION:Park City\, Park City\, UT\, 84060\, United States
CATEGORIES:Weekend Trip
ATTACH;FMTTYPE=image/jpeg:https://outryders.org/wp-content/uploads/2022/08/park-city-event.jpg
ORGANIZER;CN="Marty Smith":MAILTO:marty@outryders.org
END:VEVENT
END:VCALENDAR